BEGIN:VCALENDAR
VERSION:2.0
PRODID:-//hacksw/handcal//NONSGML v1.0//EN
BEGIN:VEVENT
SUMMARY:SENIORS R2
UID:351aad1b-c302-494c-936a-0b96a94a82c4
DTSTART:20260419T130000Z
DTEND:20260419T220000Z
LOCATION:Localisation   
CATEGORIES:Sportif
STATUS:
URL;VALUE=URI:https://www.fcgvn27.fr/evenements/2026/04/19/seniors-r2-2442989
END:VEVENT
END:VCALENDAR
