BEGIN:VCALENDAR
VERSION:2.0
PRODID:-//hacksw/handcal//NONSGML v1.0//EN
BEGIN:VEVENT
SUMMARY:SENIORS R2
UID:341ee894-1ed2-4819-a6aa-c03ec92a1e02
DTSTART:20260412T130000Z
DTEND:20260412T220000Z
LOCATION:Localisation   
CATEGORIES:Sportif
STATUS:
URL;VALUE=URI:https://www.fcgvn27.fr/evenements/2026/04/12/seniors-r2-2440420
END:VEVENT
END:VCALENDAR
